BEGIN:VCALENDAR
VERSION:2.0
PRODID:icalendar-ruby
CALSCALE:GREGORIAN
METHOD:PUBLISH
BEGIN:VEVENT
DTSTAMP:20260420T104531Z
UID:121-656819@stpetersanborn.com
DTSTART:20260913T134500Z
DTEND:20260913T144500Z
CLASS:PUBLIC
CREATED:20260420T024141
DESCRIPTION:
LAST-MODIFIED:20260420T024141
LOCATION:Church Meeting Room
SUMMARY:Adult Class
URL;VALUE=URI:https://www.stpetersanborn.com/events/adult-class/2026-09-13
END:VEVENT
END:VCALENDAR
