BEGIN:VCALENDAR
VERSION:2.0
PRODID:icalendar-ruby
CALSCALE:GREGORIAN
METHOD:PUBLISH
BEGIN:VEVENT
DTSTAMP:20260420T134807Z
UID:121-657344@stpetersanborn.com
DTSTART:20260927T134500Z
DTEND:20260927T144500Z
CLASS:PUBLIC
CREATED:20260420T073549
DESCRIPTION:
LAST-MODIFIED:20260420T073549
LOCATION:Church Meeting Room
SUMMARY:Adult Class
URL;VALUE=URI:https://www.stpetersanborn.com/events/adult-class/2026-09-27
END:VEVENT
END:VCALENDAR
