BEGIN:VCALENDAR
VERSION:2.0
PRODID:icalendar-ruby
CALSCALE:GREGORIAN
METHOD:PUBLISH
BEGIN:VEVENT
DTSTAMP:20260420T182348Z
UID:121-658393@stpetersanborn.com
DTSTART:20261018T134500Z
DTEND:20261018T144500Z
CLASS:PUBLIC
CREATED:20260420T124526
DESCRIPTION:
LAST-MODIFIED:20260420T124526
LOCATION:Church Meeting Room
SUMMARY:Adult Class
URL;VALUE=URI:https://www.stpetersanborn.com/events/adult-class/2026-10-18
END:VEVENT
END:VCALENDAR
