BEGIN:VCALENDAR
VERSION:2.0
PRODID:icalendar-ruby
CALSCALE:GREGORIAN
METHOD:PUBLISH
BEGIN:VEVENT
DTSTAMP:20260420T200612Z
UID:121-658917@stpetersanborn.com
DTSTART:20261025T134500Z
DTEND:20261025T144500Z
CLASS:PUBLIC
CREATED:20260420T152007
DESCRIPTION:
LAST-MODIFIED:20260420T152007
LOCATION:Church Meeting Room
SUMMARY:Adult Class
URL;VALUE=URI:https://www.stpetersanborn.com/events/adult-class/2026-10-25
END:VEVENT
END:VCALENDAR
