BEGIN:VCALENDAR
VERSION:2.0
PRODID:icalendar-ruby
CALSCALE:GREGORIAN
METHOD:PUBLISH
BEGIN:VEVENT
DTSTAMP:20260420T214713Z
UID:121-658918@stpetersanborn.com
DTSTART:20261101T144500Z
DTEND:20261101T154500Z
CLASS:PUBLIC
CREATED:20260420T152007
DESCRIPTION:
LAST-MODIFIED:20260420T152007
LOCATION:Church Meeting Room
SUMMARY:Adult Class
URL;VALUE=URI:https://www.stpetersanborn.com/events/adult-class/2026-11-01
END:VEVENT
END:VCALENDAR
